BEGIN:VCALENDAR
PRODID:-//kirchenweb.ch gmbh//veranstaltungsausgabe v2.0//DE
VERSION:2.0
METHOD:PUBLISH
BEGIN:VEVENT
DTSTART:29981213T084500Z
DTEND:29981213T094500Z
LOCATION:Stadtkirche St. Georg\, Chirchhofplatz\, 8260 Stein am Rhein
TRANSP:OPAQUE
SEQUENCE:0
UID:67946-veranstaltung@ref-sh.ch
DTSTAMP:20170421T151528Z
DESCRIPTION:Kontakt: corinna.junger@ref-sh.ch\n\nWeitere Infos:
  https://www.ref-sh.ch/veranstaltung/67946
SUMMARY:Gottesdienst Stadtkirche Stein
PRIORITY:5
X-MICROSOFT-CDO-IMPORTANCE:1
CLASS:PUBLIC
END:VEVENT
END:VCALENDAR
