BEGIN:VCALENDAR
PRODID:-//kirchenweb.ch gmbh//veranstaltungsausgabe v2.0//DE
VERSION:2.0
METHOD:PUBLISH
BEGIN:VEVENT
DTSTART:20260425T120000Z
DTEND:20260425T133000Z
LOCATION:Turnhallensaal\, Schützengasse 40\, 8224 Löhningen
TRANSP:OPAQUE
SEQUENCE:0
UID:197101-veranstaltung@ref-sh.ch
DTSTAMP:20260422T075901Z
DESCRIPTION:Die zweite Aufführung des Musicals «Babylon» der
  Musical-Lagerwoche 2026\, speziell für Kinder und Familien.\n\nDer
  Eintritt ist frei\, um eine Kollekte wird gebeten.\n\nKontakt: Lukas
  Huber\n\nWeitere Infos: https://www.ref-sh.ch/veranstaltung/197101
SUMMARY:Aufführung Musical «Babylon»
PRIORITY:5
X-MICROSOFT-CDO-IMPORTANCE:1
CLASS:PUBLIC
END:VEVENT
END:VCALENDAR
