BEGIN:VCALENDAR
PRODID:-//kirchenweb.ch gmbh//veranstaltungsausgabe v2.0//DE
VERSION:2.0
METHOD:PUBLISH
BEGIN:VEVENT
DTSTART:20260425T170000Z
DTEND:20260425T183000Z
LOCATION:Turnhallensaal\, Schützengasse 40\, 8224 Löhningen
TRANSP:OPAQUE
SEQUENCE:0
UID:197100-veranstaltung@ref-sh.ch
DTSTAMP:20260422T075933Z
DESCRIPTION:Die dritte Aufführung des Musicals «Babylon» der
  Musical-Lagerwoche 2026.\n\nDer Eintritt ist frei\, um eine Kollekte wird
  gebeten.\n\nKontakt: Lukas Huber\n\nWeitere Infos:
  https://www.ref-sh.ch/veranstaltung/197100
SUMMARY:Aufführung Musical «Babylon»
PRIORITY:5
X-MICROSOFT-CDO-IMPORTANCE:1
CLASS:PUBLIC
END:VEVENT
END:VCALENDAR
