BEGIN:VCALENDAR
PRODID:-//kirchenweb.ch gmbh//veranstaltungsausgabe v2.0//DE
VERSION:2.0
METHOD:PUBLISH
BEGIN:VEVENT
DTSTART:20260606T140000Z
DTEND:20260606T160000Z
LOCATION:Reformierte Kirche\, Zentralstrasse 22\, 8212 Neuhausen
TRANSP:OPAQUE
SEQUENCE:0
UID:197059-veranstaltung@ref-sh.ch
DTSTAMP:20260417T124958Z
DESCRIPTION:Kontakt: susanne.rathgeb@ref-sh.ch\n\nWeitere Infos:
  https://www.ref-sh.ch/veranstaltung/197059
SUMMARY:Offenes Singen mit der Kantorei
PRIORITY:5
X-MICROSOFT-CDO-IMPORTANCE:1
CLASS:PUBLIC
END:VEVENT
END:VCALENDAR
