BEGIN:VCALENDAR
PRODID:-//kirchenweb.ch gmbh//veranstaltungsausgabe v2.0//DE
VERSION:2.0
METHOD:PUBLISH
BEGIN:VEVENT
DTSTART:20261031T090000Z
DTEND:20261031T110000Z
LOCATION:Reformierte Kirche\, Zentralstrasse 22\, 8212 Neuhausen
TRANSP:OPAQUE
SEQUENCE:0
UID:197058-veranstaltung@ref-sh.ch
DTSTAMP:20260417T124907Z
DESCRIPTION:Kontakt: susanne.rathgeb@ref-sh.ch\n\nWeitere Infos:
  https://www.ref-sh.ch/veranstaltung/197058
SUMMARY:Offenes Singen mit der Kantorei
PRIORITY:5
X-MICROSOFT-CDO-IMPORTANCE:1
CLASS:PUBLIC
END:VEVENT
END:VCALENDAR
