BEGIN:VCALENDAR
PRODID:-//kirchenweb.ch gmbh//veranstaltungsausgabe v2.0//DE
VERSION:2.0
METHOD:PUBLISH
BEGIN:VEVENT
DTSTART:20260426T074500Z
DTEND:20260426T084500Z
LOCATION:Kirche\, Dorfstrasse 36\, 8239 Dörflingen
TRANSP:OPAQUE
SEQUENCE:0
UID:197006-veranstaltung@ref-sh.ch
DTSTAMP:20260417T073903Z
DESCRIPTION:Kontakt: Heidrun Werder\n\nWeitere Infos:
  https://www.ref-sh.ch/veranstaltung/197006
SUMMARY:Gottesdienst anschliessend Kirchgemeindeversannlung
PRIORITY:5
X-MICROSOFT-CDO-IMPORTANCE:1
CLASS:PUBLIC
END:VEVENT
END:VCALENDAR
