BEGIN:VCALENDAR
PRODID:-//kirchenweb.ch gmbh//veranstaltungsausgabe v2.0//DE
VERSION:2.0
METHOD:PUBLISH
BEGIN:VEVENT
DTSTART:20260507T110000Z
DTEND:20260507T160000Z
LOCATION:Kirchgemeindehaus\, Zentralstrasse 32\, 8212 Neuhausen
TRANSP:OPAQUE
SEQUENCE:0
UID:196976-veranstaltung@ref-sh.ch
DTSTAMP:20260416T092244Z
DESCRIPTION:Kontakt: Claudia Kiener\n\nWeitere Infos:
  https://www.ref-sh.ch/veranstaltung/196976
SUMMARY:Ökumenischer Ausflug Frühlingsfahrt Kartause Ittingen
PRIORITY:5
X-MICROSOFT-CDO-IMPORTANCE:1
CLASS:PUBLIC
END:VEVENT
END:VCALENDAR
