BEGIN:VCALENDAR
PRODID:-//kirchenweb.ch gmbh//veranstaltungsausgabe v2.0//DE
VERSION:2.0
METHOD:PUBLISH
BEGIN:VEVENT
DTSTART:20260625T120000Z
DTEND:20260625T143000Z
LOCATION:Kirchgemeindehaus\, Zentralstrasse 32\, 8212 Neuhausen
TRANSP:OPAQUE
SEQUENCE:0
UID:196951-veranstaltung@ref-sh.ch
DTSTAMP:20260415T113012Z
DESCRIPTION:Kontakt: Claudia Kiener\n\nWeitere Infos:
  https://www.ref-sh.ch/veranstaltung/196951
SUMMARY:Denken macht Spass
PRIORITY:5
X-MICROSOFT-CDO-IMPORTANCE:1
CLASS:PUBLIC
END:VEVENT
END:VCALENDAR
