BEGIN:VCALENDAR
PRODID:-//kirchenweb.ch gmbh//veranstaltungsausgabe v2.0//DE
VERSION:2.0
METHOD:PUBLISH
BEGIN:VEVENT
DTSTART:20260430T120000Z
DTEND:20260430T143000Z
LOCATION:Kirchgemeindehaus\, Zentralstrasse 32\, 8212 Neuhausen
TRANSP:OPAQUE
SEQUENCE:0
UID:196948-veranstaltung@ref-sh.ch
DTSTAMP:20260416T061011Z
DESCRIPTION:Kontakt: Claudia Kiener\n\nWeitere Infos:
  https://www.ref-sh.ch/veranstaltung/196948
SUMMARY:Denken macht Spass
PRIORITY:5
X-MICROSOFT-CDO-IMPORTANCE:1
CLASS:PUBLIC
END:VEVENT
END:VCALENDAR
