BEGIN:VCALENDAR
PRODID:-//kirchenweb.ch gmbh//veranstaltungsausgabe v2.0//DE
VERSION:2.0
METHOD:PUBLISH
BEGIN:VEVENT
DTSTART:20260701T093000Z
DTEND:20260701T120000Z
LOCATION:Kirchgemeindehaus\, Zentralstrasse 32\, 8212 Neuhausen
TRANSP:OPAQUE
SEQUENCE:0
UID:196919-veranstaltung@ref-sh.ch
DTSTAMP:20260415T082118Z
DESCRIPTION:Kontakt: Claudia Kiener\n\nWeitere Infos:
  https://www.ref-sh.ch/veranstaltung/196919
SUMMARY:Mittagstisch
PRIORITY:5
X-MICROSOFT-CDO-IMPORTANCE:1
CLASS:PUBLIC
END:VEVENT
END:VCALENDAR
