BEGIN:VCALENDAR
PRODID:-//kirchenweb.ch gmbh//veranstaltungsausgabe v2.0//DE
VERSION:2.0
METHOD:PUBLISH
BEGIN:VEVENT
DTSTART:20260606T100000Z
DTEND:20260606T120000Z
LOCATION:Kirche\, Kirchstrasse 8\, 8214 Gächlingen
TRANSP:OPAQUE
SEQUENCE:0
UID:196907-veranstaltung@ref-sh.ch
DTSTAMP:20260415T153010Z
DESCRIPTION:Geniesst eine feine Suppe aus Rüstabschnitten von Klettgauer
  Spargeln oder den köstlichen Gratin von nicht verkauftem\, aber
  einwandfreiem Gemüse lokaler Bauern  oder gleich beides.\nDer
  Haumesser-Koch Guido Zurbrügg rüstet und kocht für uns und stellt das
  Essen kostenlos zur Verfügung. \nFreiwillige Spende für die
  Organisation «Tischlein deck dich»\, Lebensmittelrettung und
  Lebensmittelhilfe.\n\n\nKontakt: Marianne Näf-Bräker\n\nWeitere Infos:
  https://www.ref-sh.ch/veranstaltung/196907
SUMMARY:Kirchenwoche: Gemüse geniessen von A bis Z
PRIORITY:5
X-MICROSOFT-CDO-IMPORTANCE:1
CLASS:PUBLIC
END:VEVENT
END:VCALENDAR
