BEGIN:VCALENDAR
PRODID:-//kirchenweb.ch gmbh//veranstaltungsausgabe v2.0//DE
VERSION:2.0
METHOD:PUBLISH
BEGIN:VEVENT
DTSTART:20260605T070000Z
DTEND:20260605T090000Z
LOCATION:Kirche\, Kirchstrasse 8\, 8214 Gächlingen
TRANSP:OPAQUE
SEQUENCE:0
UID:196906-veranstaltung@ref-sh.ch
DTSTAMP:20260415T153009Z
DESCRIPTION:Für alle\, die Lust auf einen Kafi-Halt und Gemeinschaft
  haben. Gönnen Sie sich eine Pause bei Kaffee\, Tee und Gebäck.
 \nfreiwilliger Kostenbeitrag\n\nKontakt: Beatrix Niklaus\nEliane Bachmann
 \n\nWeitere Infos: https://www.ref-sh.ch/veranstaltung/196906
SUMMARY:Kirchenwoche: Znünipause im Chile-Kafi
PRIORITY:5
X-MICROSOFT-CDO-IMPORTANCE:1
CLASS:PUBLIC
END:VEVENT
END:VCALENDAR
