BEGIN:VCALENDAR
PRODID:-//kirchenweb.ch gmbh//veranstaltungsausgabe v2.0//DE
VERSION:2.0
METHOD:PUBLISH
BEGIN:VEVENT
DTSTART:20260602T050000Z
DTEND:20260602T053000Z
LOCATION:Kirche\, Kirchstrasse 8\, 8214 Gächlingen
TRANSP:OPAQUE
SEQUENCE:0
UID:196895-veranstaltung@ref-sh.ch
DTSTAMP:20260415T153006Z
DESCRIPTION:Den Tag gemeinsam mit Gebet und Stille beginnen. Gebete und
  Texte aus dem Kirchengesangbuch\, aber nicht nur.\n\nKontakt: Pfr. Werner
  Näf \n\nWeitere Infos: https://www.ref-sh.ch/veranstaltung/196895
SUMMARY:Kirchenwoche: Morgengebet
PRIORITY:5
X-MICROSOFT-CDO-IMPORTANCE:1
CLASS:PUBLIC
END:VEVENT
END:VCALENDAR
