BEGIN:VCALENDAR
PRODID:-//kirchenweb.ch gmbh//veranstaltungsausgabe v2.0//DE
VERSION:2.0
METHOD:PUBLISH
BEGIN:VEVENT
DTSTART:20260818T150000Z
DTEND:20260818T210000Z
LOCATION:Generationentreff\, \,
TRANSP:OPAQUE
SEQUENCE:0
UID:196881-veranstaltung@ref-sh.ch
DTSTAMP:20260414T084204Z
DESCRIPTION:Kontakt: corina.jaeggi@ref-sh.ch\n\nWeitere Infos:
  https://www.ref-sh.ch/veranstaltung/196881
SUMMARY:klkl
PRIORITY:5
X-MICROSOFT-CDO-IMPORTANCE:1
CLASS:PUBLIC
END:VEVENT
END:VCALENDAR
