BEGIN:VCALENDAR
PRODID:-//kirchenweb.ch gmbh//veranstaltungsausgabe v2.0//DE
VERSION:2.0
METHOD:PUBLISH
BEGIN:VEVENT
DTSTART:20260616T180000Z
DTEND:20260616T194000Z
LOCATION:Kirche Burg\, Uf Burg 4\, 8260 Stein am Rhein
TRANSP:OPAQUE
SEQUENCE:0
UID:196879-veranstaltung@ref-sh.ch
DTSTAMP:20260414T153013Z
DESCRIPTION:Proben für die Mitwirkung am Pfarrgartenfest vom 28. Juni\n
 \nKontakt: Beat Junger beat.junger@ref-sh.ch\n\nWeitere Infos:
  https://www.ref-sh.ch/veranstaltung/196879
SUMMARY:Probe BurgSinger
PRIORITY:5
X-MICROSOFT-CDO-IMPORTANCE:1
CLASS:PUBLIC
END:VEVENT
END:VCALENDAR
