BEGIN:VCALENDAR
PRODID:-//kirchenweb.ch gmbh//veranstaltungsausgabe v2.0//DE
VERSION:2.0
METHOD:PUBLISH
BEGIN:VEVENT
DTSTART:20260610T053000Z
DTEND:20260610T163000Z
LOCATION:Treffpunkt: Sammeltour von Bornhausen via Eschenz\, Stein am
  Rhein\, Kaltenbach\, Etzwilen\, \, 8260 Stein am Rhien
TRANSP:OPAQUE
SEQUENCE:0
UID:196877-veranstaltung@ref-sh.ch
DTSTAMP:20260414T082622Z
DESCRIPTION:Ausflug an den Zugersee\n\nWeitere Informationen finden Sie
  hier: https://www.ref-sh.ch/kg/burg/seniorenausflug\n\nKontakt: Gabriela
  Quinter\n\nWeitere Infos: https://www.ref-sh.ch/veranstaltung/196877
SUMMARY:Seniorenausflug an den Zugersee
PRIORITY:5
X-MICROSOFT-CDO-IMPORTANCE:1
CLASS:PUBLIC
END:VEVENT
END:VCALENDAR
