BEGIN:VCALENDAR
PRODID:-//kirchenweb.ch gmbh//veranstaltungsausgabe v2.0//DE
VERSION:2.0
METHOD:PUBLISH
BEGIN:VEVENT
DTSTART:20260612T041500Z
DTEND:20260612T044500Z
LOCATION:Kirche\, Burg 3\, 8260 Stein am Rhein
TRANSP:OPAQUE
SEQUENCE:0
UID:196874-veranstaltung@ref-sh.ch
DTSTAMP:20260414T081551Z
DESCRIPTION:Kontakt: Corinna Junger\n\nWeitere Infos:
  https://www.ref-sh.ch/veranstaltung/196874
SUMMARY:Morgengebet
PRIORITY:5
X-MICROSOFT-CDO-IMPORTANCE:1
CLASS:PUBLIC
END:VEVENT
END:VCALENDAR
