BEGIN:VCALENDAR
PRODID:-//kirchenweb.ch gmbh//veranstaltungsausgabe v2.0//DE
VERSION:2.0
METHOD:PUBLISH
BEGIN:VEVENT
DTSTART:20260628T081500Z
DTEND:20260628T091500Z
LOCATION:Kirche Burg\, Burg 3\, 8260 Stein am Rhein
TRANSP:OPAQUE
SEQUENCE:0
UID:196872-veranstaltung@ref-sh.ch
DTSTAMP:20260414T153015Z
DESCRIPTION:Mitwirkung der BurgSinger. \n\nIm Anschluss gibt es Würste
  vom Grill mit Brot und Dessert.\n\nKontakt: Beat Junger\n\nWeitere Infos:
  https://www.ref-sh.ch/veranstaltung/196872
SUMMARY:Gottesdienst im Pfarrgarten
PRIORITY:5
X-MICROSOFT-CDO-IMPORTANCE:1
CLASS:PUBLIC
END:VEVENT
END:VCALENDAR
