BEGIN:VCALENDAR
PRODID:-//kirchenweb.ch gmbh//veranstaltungsausgabe v2.0//DE
VERSION:2.0
METHOD:PUBLISH
BEGIN:VEVENT
DTSTART:20260607T170000Z
DTEND:20260607T180000Z
LOCATION:Kirche Burg\, Uf Burg 3\, 8260 Stein am Rhein
TRANSP:OPAQUE
SEQUENCE:0
UID:196870-veranstaltung@ref-sh.ch
DTSTAMP:20260414T153007Z
DESCRIPTION:Kontakt: Pfrn. Corinna Junger\n\nWeitere Infos:
  https://www.ref-sh.ch/veranstaltung/196870
SUMMARY:Abendgottesdienst
PRIORITY:5
X-MICROSOFT-CDO-IMPORTANCE:1
CLASS:PUBLIC
END:VEVENT
END:VCALENDAR
