BEGIN:VCALENDAR
PRODID:-//kirchenweb.ch gmbh//veranstaltungsausgabe v2.0//DE
VERSION:2.0
METHOD:PUBLISH
BEGIN:VEVENT
DTSTART:20260627T090000Z
DTEND:20260627T215900Z
LOCATION:Kirchgemeindehaus Beringen\, Steig 2\, 8222 Beringen
TRANSP:OPAQUE
SEQUENCE:0
UID:196796-veranstaltung@ref-sh.ch
DTSTAMP:20260413T081029Z
DESCRIPTION:Kontakt: Abwartin Nicola Schwyn\n\nWeitere Infos:
  https://www.ref-sh.ch/veranstaltung/196796
SUMMARY:Geburtstagsfeier
PRIORITY:5
X-MICROSOFT-CDO-IMPORTANCE:1
CLASS:PUBLIC
END:VEVENT
END:VCALENDAR
