BEGIN:VCALENDAR
PRODID:-//kirchenweb.ch gmbh//veranstaltungsausgabe v2.0//DE
VERSION:2.0
METHOD:PUBLISH
BEGIN:VEVENT
DTSTART:20260621T083000Z
DTEND:20260621T093000Z
LOCATION:Campingplatz Wagenhausen\, Hauptstrasse 82\, 8259 Wagenhausen
TRANSP:OPAQUE
SEQUENCE:0
UID:196795-veranstaltung@ref-sh.ch
DTSTAMP:20260414T153013Z
DESCRIPTION:Auf der Wiese direkt am Rhein feiern wir gemeinsam
  Gottesdienst: Kirchgemeinden Burg und Wagenhausen. \nAnschliessend Apero.
 \n\nBei schlechtem Wetter findet der Gottesdienst in der Propsteikirche
  Wagenhausen statt. \n\nKontakt: Beat Junger\n\nWeitere Infos:
  https://www.ref-sh.ch/veranstaltung/196795
SUMMARY:Gottesdienst auf dem Campingplatz
PRIORITY:5
X-MICROSOFT-CDO-IMPORTANCE:1
CLASS:PUBLIC
END:VEVENT
END:VCALENDAR
