BEGIN:VCALENDAR
PRODID:-//kirchenweb.ch gmbh//veranstaltungsausgabe v2.0//DE
VERSION:2.0
METHOD:PUBLISH
BEGIN:VEVENT
DTSTART:20260823T080000Z
DTEND:20260823T090000Z
LOCATION:SHf von der Arche 2.0 in Laufen am Rheinfall\, \,
TRANSP:OPAQUE
SEQUENCE:0
UID:196785-veranstaltung@ref-sh.ch
DTSTAMP:20260410T184336Z
DESCRIPTION:Ökumenischer Jazz-Gottesdienst aus der Arche 2.0 bei der
  Reformierten Kirche Laufen am Rheinfall\n\nmit Ausstrahlungen am Sonntag
  von 10 Uhr bis 17 Uhr stündlich wiederholt im Schaffhauser Fernsehen (25
  Minuten) und im Youtube Kanal
  https://www.youtube.com/channel/UCK3OJu2AUrREvzqtPw0OOpw\n\nAufzeichnung
  vom Sonntag 9. August in Laufen am Rheinfall mit der Kirchgemeinde
  SH-Herblingen und dem Pastoralraum Neuhausen-Hallau in der Arche 2.0. \n
 \nMitwirkende:\nPfarrer Peter Vogelsanger (Herblingen\, Saxophon)
 \nPastoralraumleiter Josif Trajkov (Neuhausen)\nBirgit Gerber (Gesang)\,
  Bernie Ruch (Schlagzeug)\, Jean-Pierre Dix (Bass)\, Hans-Jörg Ganz
  (Klavier)\n\nKontakt: doris.brodbeck@ref-sh.ch\n\nWeitere Infos:
  https://www.ref-sh.ch/veranstaltung/196785
SUMMARY:Fernsehgottesdienst der Schaffhauser Landeskirchen
PRIORITY:5
X-MICROSOFT-CDO-IMPORTANCE:1
CLASS:PUBLIC
END:VEVENT
END:VCALENDAR
