BEGIN:VCALENDAR
PRODID:-//kirchenweb.ch gmbh//veranstaltungsausgabe v2.0//DE
VERSION:2.0
METHOD:PUBLISH
BEGIN:VEVENT
DTSTART:20260705T120000Z
DTEND:20260705T130000Z
LOCATION:Kirchgemeindehaus\, \,
TRANSP:OPAQUE
SEQUENCE:0
UID:196752-veranstaltung@ref-sh.ch
DTSTAMP:20260408T090628Z
DESCRIPTION:Kontakt: susanne.rathgeb@ref-sh.ch\n\nWeitere Infos:
  https://www.ref-sh.ch/veranstaltung/196752
SUMMARY:Kafi am Sunntig
PRIORITY:5
X-MICROSOFT-CDO-IMPORTANCE:1
CLASS:PUBLIC
END:VEVENT
END:VCALENDAR
