BEGIN:VCALENDAR
PRODID:-//kirchenweb.ch gmbh//veranstaltungsausgabe v2.0//DE
VERSION:2.0
METHOD:PUBLISH
BEGIN:VEVENT
DTSTART:20260624T173000Z
DTEND:20260624T183000Z
LOCATION:Dorfkirche Hallau\, Gartenstrasse\, 8215 Hallau
TRANSP:OPAQUE
SEQUENCE:0
UID:196714-veranstaltung@ref-sh.ch
DTSTAMP:20260407T064028Z
DESCRIPTION:Herzliche Einladung zum Eltern-Informationsabend\nfür alle
  Eltern und Erziehungsberechtigten der Kinder\nvom 1. – 9. Schuljahr\n
 \nBereits neigt sich das erste Kirchenjahr\, welches nach unserem neuen
  Unterrichtskonzept eingeführt wurde\, dem Ende entgegen.\nAufgrund der
  Erfahrungen und der Prognose der Schülerzahlen\, werden wir für das
  Schuljahr 2026/2027 einige Anpassungen vornehmen\, welche Sie alle
  betreffen. \nBitte beachten Sie\, dass wir zu einem Ausbildungsangebot
  für Kinder und Jugendliche gemäss Kirchenordnung verpflichtet sind.
 \nDiese schreibt vor allem Ausbildungszeiten vor.   \nAus diesem Grund
  laden wir Sie herzlich zu einem Informationsabend in die Dorfkirche ein.
  Es ist uns ein Anliegen\, dass Sie die Infos aus erster Hand erhalten und
  Ihre Fragen an die beteiligten Fachpersonen\, Arlette Neukomm
  (Katechetin) und Wiebke Suter (Pfarrerin)\, stellen können. \n
 \nTeilnehmer:\nWiebke Suter\, Pfarrerin\nArlette Neukomm\, Katechetin\nUli
  Daum\, Kirchgemeindepräsident\nYvonne Meier\, Ressort Kind und Jugend\n
  und Sie liebe Eltern\n\nIm Anschluss servieren wir Ihnen einen
  erfrischenden Sommerdrink\, bei welchem die Gemeinschaft und das
  Miteinander gelebt werden kann.\n\n\n\nKontakt: manuela.baumann@ref-sh.ch
 \n\nWeitere Infos: https://www.ref-sh.ch/veranstaltung/196714
SUMMARY:Eltern-Informationsabend
PRIORITY:5
X-MICROSOFT-CDO-IMPORTANCE:1
CLASS:PUBLIC
END:VEVENT
END:VCALENDAR
