BEGIN:VCALENDAR
PRODID:-//kirchenweb.ch gmbh//veranstaltungsausgabe v2.0//DE
VERSION:2.0
METHOD:PUBLISH
BEGIN:VEVENT
DTSTART:20261209T140000Z
DTEND:20261209T150000Z
LOCATION:ABACO Schaffhausen\, \,
TRANSP:OPAQUE
SEQUENCE:0
UID:196703-veranstaltung@ref-sh.ch
DTSTAMP:20260404T120456Z
DESCRIPTION:ABACO Schaffhausen\n\nKontakt: jacqueline.werner@ref-sh.ch\n
 \nWeitere Infos: https://www.ref-sh.ch/veranstaltung/196703
SUMMARY:Seniorennachmittag
PRIORITY:5
X-MICROSOFT-CDO-IMPORTANCE:1
CLASS:PUBLIC
END:VEVENT
END:VCALENDAR
