BEGIN:VCALENDAR
PRODID:-//kirchenweb.ch gmbh//veranstaltungsausgabe v2.0//DE
VERSION:2.0
METHOD:PUBLISH
BEGIN:VEVENT
DTSTART:20261007T130000Z
DTEND:20261007T140000Z
LOCATION:Restaurant Frohsinn Hemmental\, \, 8231 Hemmental
TRANSP:OPAQUE
SEQUENCE:0
UID:196702-veranstaltung@ref-sh.ch
DTSTAMP:20260404T115743Z
DESCRIPTION:Singnachmittag mit Peter Geuggis\n\nKontakt:
  jacqueline.werner@ref-sh.ch\n\nWeitere Infos:
  https://www.ref-sh.ch/veranstaltung/196702
SUMMARY:Seniorennachmittag
PRIORITY:5
X-MICROSOFT-CDO-IMPORTANCE:1
CLASS:PUBLIC
END:VEVENT
END:VCALENDAR
