BEGIN:VCALENDAR
PRODID:-//kirchenweb.ch gmbh//veranstaltungsausgabe v2.0//DE
VERSION:2.0
METHOD:PUBLISH
BEGIN:VEVENT
DTSTART:20260429T083000Z
DTEND:20260429T150000Z
LOCATION:Teufen AR\, \,
TRANSP:OPAQUE
SEQUENCE:0
UID:196700-veranstaltung@ref-sh.ch
DTSTAMP:20260404T115125Z
DESCRIPTION:Führung und Besichtigung A. Vogel Heilpflanzenwelt\n
 \nKontakt: Nadja Löhrli und Astrid Zehnder\n\nWeitere Infos:
  https://www.ref-sh.ch/veranstaltung/196700
SUMMARY:Seniorenausflug
PRIORITY:5
X-MICROSOFT-CDO-IMPORTANCE:1
CLASS:PUBLIC
END:VEVENT
END:VCALENDAR
