BEGIN:VCALENDAR
PRODID:-//kirchenweb.ch gmbh//veranstaltungsausgabe v2.0//DE
VERSION:2.0
METHOD:PUBLISH
BEGIN:VEVENT
DTSTART:20261009T100000Z
DTEND:20261009T120000Z
LOCATION:Restaurant Frohsinn Hemmental\, Hauptstrasse 16\, 8231 Hemmental
TRANSP:OPAQUE
SEQUENCE:0
UID:196696-veranstaltung@ref-sh.ch
DTSTAMP:20260404T113202Z
DESCRIPTION:Kontakt: jacqueline.werner@ref-sh.ch\n\nWeitere Infos:
  https://www.ref-sh.ch/veranstaltung/196696
SUMMARY:Mittagstisch
PRIORITY:5
X-MICROSOFT-CDO-IMPORTANCE:1
CLASS:PUBLIC
END:VEVENT
END:VCALENDAR
