BEGIN:VCALENDAR
PRODID:-//kirchenweb.ch gmbh//veranstaltungsausgabe v2.0//DE
VERSION:2.0
METHOD:PUBLISH
BEGIN:VEVENT
DTSTART:20260606T070000Z
DTEND:20260606T190000Z
LOCATION:Kirche\, Kirchstrasse 8\, 8214 Gächlingen
TRANSP:OPAQUE
SEQUENCE:0
UID:196686-veranstaltung@ref-sh.ch
DTSTAMP:20260415T073253Z
DESCRIPTION:Kontakt: Susanne Ryser\nPhilippe Niklaus\n\nWeitere Infos:
  https://www.ref-sh.ch/veranstaltung/196686
SUMMARY:Kirchenwoche: Spieltag 9 bis 9
PRIORITY:5
X-MICROSOFT-CDO-IMPORTANCE:1
CLASS:PUBLIC
END:VEVENT
END:VCALENDAR
