BEGIN:VCALENDAR
PRODID:-//kirchenweb.ch gmbh//veranstaltungsausgabe v2.0//DE
VERSION:2.0
METHOD:PUBLISH
BEGIN:VEVENT
DTSTART:20260405T044500Z
DTEND:20260405T061500Z
LOCATION:Mesmerhuus\, Kloster 14\, 8224 Löhningen
TRANSP:OPAQUE
SEQUENCE:0
UID:196669-veranstaltung@ref-sh.ch
DTSTAMP:20260402T141505Z
DESCRIPTION:Kontakt: Thomas Stamm\n\nWeitere Infos:
  https://www.ref-sh.ch/veranstaltung/196669
SUMMARY:Osterzmorge
PRIORITY:5
X-MICROSOFT-CDO-IMPORTANCE:1
CLASS:PUBLIC
END:VEVENT
END:VCALENDAR
