BEGIN:VCALENDAR
PRODID:-//kirchenweb.ch gmbh//veranstaltungsausgabe v2.0//DE
VERSION:2.0
METHOD:PUBLISH
BEGIN:VEVENT
DTSTART:20260610T160000Z
DTEND:20260610T170000Z
LOCATION:PfarrhausTreff\, Dorfstrasse 4\, 8454 Buchberg
TRANSP:OPAQUE
SEQUENCE:0
UID:196630-veranstaltung@ref-sh.ch
DTSTAMP:20260401T193703Z
DESCRIPTION:Kontakt: barbara.erdmann@ref-sh.ch\n\nWeitere Infos:
  https://www.ref-sh.ch/veranstaltung/196630
SUMMARY:Sitzung Top Step
PRIORITY:5
X-MICROSOFT-CDO-IMPORTANCE:1
CLASS:PUBLIC
END:VEVENT
END:VCALENDAR
