BEGIN:VCALENDAR
PRODID:-//kirchenweb.ch gmbh//veranstaltungsausgabe v2.0//DE
VERSION:2.0
METHOD:PUBLISH
BEGIN:VEVENT
DTSTART;VALUE=DATE:20261015
DTEND;VALUE=DATE:20261016
LOCATION:Kloster St. Peter Bludenz \, \,
TRANSP:OPAQUE
SEQUENCE:0
UID:196607-veranstaltung@ref-sh.ch
DTSTAMP:20260401T064336Z
DESCRIPTION:Einladung zu Brunnengesprächen\nBrunnen waren stets ein Ort
  der Begegnung und der Belebung. Miteinander wollen wir in die
  Brunnentiefe unseres Herzens hinabsteigen und uns in Gespräche mit uns
  selbst\, mit Gott und den anderen „verwickeln“ lassen. Im
  Brunnengrund des Herzens dürfen wir zur heilsamen Begegnung mit uns\,
  mit Gott und den anderen gelangen und uns vom Geheimnis des Lebens\, der
  Liebe\, der Freude berühren lassen. Der Brunnen ist unsere Herzenstiefe.
  Sie will uns zur Quelle frischen und lebendigen Wassers führen\, das in
  unseren Herzen schon sprudelt und nur darauf wartet\, kraftvoll
  hervorzubrechen. \nIn den Impulsen\, in der Stille\, im Austausch\, auf
  Spaziergängen\, im Singen und beim meditativen Tanz lassen wir uns am
  Brunnenrand nieder und tauchen ein in das Geheimnis unseres Lebens.
 \nReferentin: Cornelia Knipping\, MAS Palliative Care &
  Organisationsethik\, Buchautorin\n\nWas diese Auszeit beinhaltet \nDie
  gemeinsamen Mahlzeiten und Tischgebete mit den Dominikanerinnen prägen
  diese Auszeit. Als freiwilliges Angebot besteht die Möglichkeit an den
  Tagesgebeten teilzunehmen. Alle sind herzlich dazu eingeladen.\nWir
  hören Impulse\, die uns zum Nach- und Neudenken\, Reflektieren und
  Austauschen anregen. Daneben bleibt Zeit für sich\, die entweder in der
  Stille\, in der Gemeinschaft\, auf einem Spaziergang\, etc. verbracht
  werden kann. \n\nWas diese Tage voraussetzen\nDiese Auszeit setzt die
  Bereitschaft und Offenheit voraus\, sich auf einen vielleicht neuen und
  unbekannten Weg einzulassen. Wir werden beispielsweise das Morgenessen im
  Schweigen zu uns nehmen und uns entlang des klösterlichen Alltags auf
  neue Inspirationen einlassen.\n\nKursort und Dauer\nKloster St. Peter\,
  Sankt-Peter-Straße 45\, 6700 Bludenz\, Österreich\n\nDas Angebot findet
  an zwei Wochenenden im Jahr statt. Die Auszeiten können einzeln oder
  zusammen gebucht werden. \n1.	Auszeit Wochenende:	15. – 18. Oktober
  2026\n2.	Auszeit Wochenende:	26. – 29. November 2026\n
 \nAnkunft:		Donnerstag\, 15.00 – 17.00 Uhr\nAbreise:		Sonntag\, 13.30
  – 14.00 Uhr\n\nKurskosten (pro Person)\nIm Preis sind das Zimmer mit
  Vollpension\, Frottée- und Bettwäsche und die Kurskosten enthalten. Die
  Zimmer mit DU/WC auf dem Gang verfügen über ein Lavabo im Zimmer. \n\n3
  Übernachtungen im EZ\, DU/WC im Zimmer	SFr. 395.-\n3 Übernachtungen im
  EZ\, DU/WC auf dem Gang	SFr. 359.-\n3 Übernachtungen im grossen DZ\,
  DU/WC im Zimmer	SFr. 380.-\n3 Übernachtungen im DZ\, DU/WC auf dem
  Gang	SFr. 329.-\n\n(Anreise individuell mit dem Zug oder mit
  Fahrgemeinschaften)\n\nAnmeldung\nInteressierte\, die ein erstes Mal an
  der Auszeit teilnehmen\, bitten wir darum\, mit Barbara R. Kontakt
  aufzunehmen. \n\nBarbara Rohrer (Sozialdiakonin/Trauerbegleiterin BVT)
 \nPfrundhausgasse 3\, 8200 Schaffhausen\n052 625 15 51 /
  barbara.rohrer@ref-sh.ch\n\n\n\n\nKontakt: barbara.rohrer@ref-sh.ch\n
 \nWeitere Infos: https://www.ref-sh.ch/veranstaltung/196607
SUMMARY:15.-18.10.2026 - Auszeit im Kloster
PRIORITY:5
X-MICROSOFT-CDO-IMPORTANCE:1
CLASS:PUBLIC
END:VEVENT
END:VCALENDAR
