BEGIN:VCALENDAR
PRODID:-//kirchenweb.ch gmbh//veranstaltungsausgabe v2.0//DE
VERSION:2.0
METHOD:PUBLISH
BEGIN:VEVENT
DTSTART:20260604T123000Z
DTEND:20260604T143000Z
LOCATION:Kirche\, Kirchstrasse 8\, 8214 Gächlingen
TRANSP:OPAQUE
SEQUENCE:0
UID:196601-veranstaltung@ref-sh.ch
DTSTAMP:20260415T070951Z
DESCRIPTION:Kontakt: Susanne Ryser\n\nWeitere Infos:
  https://www.ref-sh.ch/veranstaltung/196601
SUMMARY:Kirchenwoche: Hören in der Kirche - Testen Fragen Kaffeetrinken
PRIORITY:5
X-MICROSOFT-CDO-IMPORTANCE:1
CLASS:PUBLIC
END:VEVENT
END:VCALENDAR
