BEGIN:VCALENDAR
PRODID:-//kirchenweb.ch gmbh//veranstaltungsausgabe v2.0//DE
VERSION:2.0
METHOD:PUBLISH
BEGIN:VEVENT
DTSTART:20260902T100000Z
DTEND:20260902T110000Z
LOCATION:Kirchgemeindehaus Burg\, Burg 3\, 8260 Stein am Rhein
TRANSP:OPAQUE
SEQUENCE:0
UID:196577-veranstaltung@ref-sh.ch
DTSTAMP:20260331T153016Z
DESCRIPTION:Mittagstisch im Kirchgemeindehaus. Gemeinsam geniessen wir ein
  feines Essen und gute Gemeinschaft. \nDer Richtpreis liegt bei 14
  Franken\, Kaffee und Getränke sind inbegriffen. \n\nKontakt: Gabriela
  Quinter\n\nWeitere Infos: https://www.ref-sh.ch/veranstaltung/196577
SUMMARY:Seniorenmittagstisch
PRIORITY:5
X-MICROSOFT-CDO-IMPORTANCE:1
CLASS:PUBLIC
END:VEVENT
END:VCALENDAR
