BEGIN:VCALENDAR
PRODID:-//kirchenweb.ch gmbh//veranstaltungsausgabe v2.0//DE
VERSION:2.0
METHOD:PUBLISH
BEGIN:VEVENT
DTSTART:20260603T120000Z
DTEND:20260603T150000Z
LOCATION:Guntmadingen\, Dorfstrasse 29\, 8223 Guntmadingen
TRANSP:OPAQUE
SEQUENCE:0
UID:196537-veranstaltung@ref-sh.ch
DTSTAMP:20260327T163009Z
DESCRIPTION:Ein neues Angebot:\nErzählcafé: Es regt an\, zu erzählen
  oder zuzuhören. Lukas Huber moderiert.\n\nKontakt: Lukas Huber\n
 \nWeitere Infos: https://www.ref-sh.ch/veranstaltung/196537
SUMMARY:Senioren-Nachmittagstreff im Kafi Sunnegg
PRIORITY:5
X-MICROSOFT-CDO-IMPORTANCE:1
CLASS:PUBLIC
END:VEVENT
END:VCALENDAR
