BEGIN:VCALENDAR
PRODID:-//kirchenweb.ch gmbh//veranstaltungsausgabe v2.0//DE
VERSION:2.0
METHOD:PUBLISH
BEGIN:VEVENT
DTSTART:20260618T173000Z
DTEND:20260618T190000Z
LOCATION:Unterrichtszimmer bei der Dorfkirche\, Hammermauer 17\, 8215
  Hallau
TRANSP:OPAQUE
SEQUENCE:0
UID:196534-veranstaltung@ref-sh.ch
DTSTAMP:20260402T143858Z
DESCRIPTION:Die Geschichte der Bibelentstehung und der Bibelübersetzung
  erzählt vom Versuch\, Glaube weiterzugeben und von der Kunst\, Barrieren
  zwischen Sprachen\, Kulturen und Epochen zu überbrücken. Dabei legen
  Übersetzungen unterschiedliche Schwerpunkte – ganz legitim.\nDer
  Versuch selber zu übersetzen\, lässt über die Kunst und Verantwortung
  staunen.\nIm Vergleich von Übersetzungen lässt sich entdecken\, welche
  Bibel in welchem Fall am besten überzeugt.\n\nAlle Materialien werden
  zur Verfügung gestellt. \nMitbringen: Freude am Austausch untereinander
  und am Experimentieren. \nOption: geselliger Ausklang bis 21:30\n\n
 \nKontakt: Pfrn. Wiebke Suter\n\nWeitere Infos:
  https://www.ref-sh.ch/veranstaltung/196534
SUMMARY:«In meiner Bibel steht das aber anders!» Themenabend zur Kunst
  der (Bibel)Übersetzung
PRIORITY:5
X-MICROSOFT-CDO-IMPORTANCE:1
CLASS:PUBLIC
END:VEVENT
END:VCALENDAR
