BEGIN:VCALENDAR
PRODID:-//kirchenweb.ch gmbh//veranstaltungsausgabe v2.0//DE
VERSION:2.0
METHOD:PUBLISH
BEGIN:VEVENT
DTSTART:20260430T070000Z
DTEND:20260430T090000Z
LOCATION:HofAckerZentrum\, Alpenstrasse 176\, 8203 Schaffhausen
TRANSP:OPAQUE
SEQUENCE:0
UID:196510-veranstaltung@ref-sh.ch
DTSTAMP:20260326T073043Z
DESCRIPTION:Kontakt: gabriela.thoma@ref-sh.ch\n\nWeitere Infos:
  https://www.ref-sh.ch/veranstaltung/196510
SUMMARY:Einpackteam
PRIORITY:5
X-MICROSOFT-CDO-IMPORTANCE:1
CLASS:PUBLIC
END:VEVENT
END:VCALENDAR
