BEGIN:VCALENDAR
PRODID:-//kirchenweb.ch gmbh//veranstaltungsausgabe v2.0//DE
VERSION:2.0
METHOD:PUBLISH
BEGIN:VEVENT
DTSTART:20260823T081500Z
DTEND:20260823T093000Z
LOCATION:Schützenstube\, \,  Merishausen
TRANSP:OPAQUE
SEQUENCE:0
UID:196495-veranstaltung@ref-sh.ch
DTSTAMP:20260325T144214Z
DESCRIPTION:Kontakt: jean.hiltbrunner@ref-sh.ch\n\nWeitere Infos:
  https://www.ref-sh.ch/veranstaltung/196495
SUMMARY:Culte en plein air suivi d'une grillade
PRIORITY:5
X-MICROSOFT-CDO-IMPORTANCE:1
CLASS:PUBLIC
END:VEVENT
END:VCALENDAR
