BEGIN:VCALENDAR
PRODID:-//kirchenweb.ch gmbh//veranstaltungsausgabe v2.0//DE
VERSION:2.0
METHOD:PUBLISH
BEGIN:VEVENT
DTSTART:20261114T090000Z
DTEND:20261114T110000Z
LOCATION:KULTURLABOR\, Bachstrasse 27\, 8200 Schaffhausen
TRANSP:OPAQUE
SEQUENCE:0
UID:196488-veranstaltung@ref-sh.ch
DTSTAMP:20260325T163025Z
DESCRIPTION:Malen zu einem spirituellen Impuls\n\nLass dich von einem Text
  oder einem Gedanken inspirieren und gib dem\, was in dir Resonanz
  findet\, spielerisch gestaltend Ausdruck.\nEs geht nicht um Technik\,
  nicht um "schön" oder "richtig" - sondern um das Ausprobieren und sich
  überraschen zu lassen\, was durch die Farben sichtbar werden möchte.\n
 \n\nEs sind keinerlei Vorkenntnisse nötig. Unkostenbeitrag an das
  Material. Die Platzzahl ist begrenzt.\n\n\n\nKontakt: Barbara Rohrer
  Sozialdiakonie\n\nWeitere Infos:
  https://www.ref-sh.ch/veranstaltung/196488
SUMMARY:Malen zu spirituellen Impulsen
PRIORITY:5
X-MICROSOFT-CDO-IMPORTANCE:1
CLASS:PUBLIC
END:VEVENT
END:VCALENDAR
