BEGIN:VCALENDAR
PRODID:-//kirchenweb.ch gmbh//veranstaltungsausgabe v2.0//DE
VERSION:2.0
METHOD:PUBLISH
BEGIN:VEVENT
DTSTART:20270317T163000Z
DTEND:20270317T200000Z
LOCATION:Ochseschüür\, Pfrundhausgasse 3\, 8200 Schaffhausen
TRANSP:OPAQUE
SEQUENCE:0
UID:196484-veranstaltung@ref-sh.ch
DTSTAMP:20260325T101330Z
DESCRIPTION:Kontakt: Franziska Bevilacqua\n\nWeitere Infos:
  https://www.ref-sh.ch/veranstaltung/196484
SUMMARY:Ensa Erste Hilfe Kurs
PRIORITY:5
X-MICROSOFT-CDO-IMPORTANCE:1
CLASS:PUBLIC
END:VEVENT
END:VCALENDAR
