BEGIN:VCALENDAR
PRODID:-//kirchenweb.ch gmbh//veranstaltungsausgabe v2.0//DE
VERSION:2.0
METHOD:PUBLISH
BEGIN:VEVENT
DTSTART:20261104T130000Z
DTEND:20261104T160000Z
LOCATION:Bistro Storchen\, Herrengasse 26\, 8224 Löhningen
TRANSP:OPAQUE
SEQUENCE:0
UID:196480-veranstaltung@ref-sh.ch
DTSTAMP:20260326T133150Z
DESCRIPTION:Hans Peter und Ursula Thüler zeigen einen Film über ihre
  Schiffsreise durch Polen.\n\nKontakt: ruedi.spoerndli@ref-sh.ch\n
 \nWeitere Infos: https://www.ref-sh.ch/veranstaltung/196480
SUMMARY:Senioren-Nachmittagstreff im Bistro Storchen
PRIORITY:5
X-MICROSOFT-CDO-IMPORTANCE:1
CLASS:PUBLIC
END:VEVENT
END:VCALENDAR
