BEGIN:VCALENDAR
PRODID:-//kirchenweb.ch gmbh//veranstaltungsausgabe v2.0//DE
VERSION:2.0
METHOD:PUBLISH
BEGIN:VEVENT
DTSTART:20260505T170000Z
DTEND:20260505T180000Z
LOCATION:Kirche Osterfingen\, Dorfstrasse 78\, 8218 Osterfingen
TRANSP:OPAQUE
SEQUENCE:0
UID:196440-veranstaltung@ref-sh.ch
DTSTAMP:20260407T192738Z
DESCRIPTION:In der Kirche\, am Dienstag\, 5. Mai um 19 Uhr wird die
  diesjährige Versammlung abgehalten. Die Einladung mit der
  Traktandenliste wird fristgerecht in die Haushaltungen verteilt.\n
 \nAchtung: Die Kirchgemeindeversammlung findet dieses Jahr am
  Dienstagabend statt! Anschliessend gibt es einen kleinen Umtrunk. Der
  Kirchenstand freut sich auf rege Beteiligung am Gemeindeleben und
  gemeinsamen Gestalten.\n\nKontakt: Karin Stössel\n\nWeitere Infos:
  https://www.ref-sh.ch/veranstaltung/196440
SUMMARY:Kirchgemeindeversammlung Osterfingen
PRIORITY:5
X-MICROSOFT-CDO-IMPORTANCE:1
CLASS:PUBLIC
END:VEVENT
END:VCALENDAR
