BEGIN:VCALENDAR
PRODID:-//kirchenweb.ch gmbh//veranstaltungsausgabe v2.0//DE
VERSION:2.0
METHOD:PUBLISH
BEGIN:VEVENT
DTSTART:20260521T173000Z
DTEND:20260521T184500Z
LOCATION:Untizimmer Wilchingen\, Zinggenstrasse 28\, 8217 Wilchingen
TRANSP:OPAQUE
SEQUENCE:0
UID:196439-veranstaltung@ref-sh.ch
DTSTAMP:20260323T090017Z
DESCRIPTION:Gerne laden wir alle Interessierten herzlich ein zum
  Männergespräch. An diesem Abend soll folgende Frage zum Gespräch
  anregen: «Was darf meine Gesundheit kosten»?\n\nEine gute Gesundheit
  ist ein sehr grosses Geschenk. Doch manchmal ist sie durch Krankheit und
  Gebrechen bedroht. Da wir alle gesund alt werden möchten\, lassen wir
  nichts unversucht um unsere Gesundheit zu erhalten. Der medizinische
  Fortschritt macht heute in diesem Bereich vieles möglich\, was vor
  Jahrzehnten noch undenkbar war. Doch wo liegen die Grenzen? Können wir
  uns finanziell und ethisch alles leisten\, was möglich ist? Darüber
  möchten wir miteinander ins Gespräch kommen nicht um die Lösung zu
  finden\, sondern um einige wertvolle Anregungen zu entdecken für
  Entscheide\, die jede Person letztlich selber treffen muss.\n\nWir freuen
  uns auf viele Teilnehmer und einen wertvollen Austausch in einer
  angeregten Runde.\nSagt es bitte weiter und ermuntert auch andere zum
  Mitmachen!\n\nMit herzlichen Grüssen\nHans Erni\, Emil Gysel\, Bruno
  Külling\n\nKontakt: annette.schaad@ref-sh.ch\n\nWeitere Infos:
  https://www.ref-sh.ch/veranstaltung/196439
SUMMARY:Männergesprächsgruppe
PRIORITY:5
X-MICROSOFT-CDO-IMPORTANCE:1
CLASS:PUBLIC
END:VEVENT
END:VCALENDAR
