BEGIN:VCALENDAR
PRODID:-//kirchenweb.ch gmbh//veranstaltungsausgabe v2.0//DE
VERSION:2.0
METHOD:PUBLISH
BEGIN:VEVENT
DTSTART:20261225T080000Z
DTEND:20261225T093000Z
LOCATION:Altersheim Schleitheim\, Alte Beggingerstrasse 60\, 8226
  Schleitheim
TRANSP:OPAQUE
SEQUENCE:0
UID:196437-veranstaltung@ref-sh.ch
DTSTAMP:20260323T163025Z
DESCRIPTION:Singen von Weihnachtsliedern im Altersheim\, anschliessend
  Apéro im Kafistübli\n\nKontakt: Doris Brodbeck und Pfr. Heinz Dutler\n
 \nWeitere Infos: https://www.ref-sh.ch/veranstaltung/196437
SUMMARY:Currende-Singen im Altersheim Schleitheim
PRIORITY:5
X-MICROSOFT-CDO-IMPORTANCE:1
CLASS:PUBLIC
END:VEVENT
END:VCALENDAR
