BEGIN:VCALENDAR
PRODID:-//kirchenweb.ch gmbh//veranstaltungsausgabe v2.0//DE
VERSION:2.0
METHOD:PUBLISH
BEGIN:VEVENT
DTSTART:20261225T050000Z
DTEND:20261225T070000Z
LOCATION:Rundgang durchs Dorf\, Kirchgasse 8\, 8226 Schleitheim
TRANSP:OPAQUE
SEQUENCE:0
UID:196436-veranstaltung@ref-sh.ch
DTSTAMP:20260323T163024Z
DESCRIPTION:6 Uhr Besammlung beim alten Schulhaus\, Kirchgasse 8; Rundgang
  durchs Dorf mit Weihnachtsliedern und Fackeln. \n8 Uhr Zmorge-Buffet in
  der Gemeindestube.\nca. 9 Uhr Abschluss mit Liedern im Altersheim
  Schleitheim\n\nKontakt: Doris Brodbeck\n\nWeitere Infos:
  https://www.ref-sh.ch/veranstaltung/196436
SUMMARY:Currende-Singen im Dorf
PRIORITY:5
X-MICROSOFT-CDO-IMPORTANCE:1
CLASS:PUBLIC
END:VEVENT
END:VCALENDAR
