BEGIN:VCALENDAR
PRODID:-//kirchenweb.ch gmbh//veranstaltungsausgabe v2.0//DE
VERSION:2.0
METHOD:PUBLISH
BEGIN:VEVENT
DTSTART:20260430T052000Z
DTEND:20260430T061000Z
LOCATION:Kirchgemeindehaus\, \,
TRANSP:OPAQUE
SEQUENCE:0
UID:196402-veranstaltung@ref-sh.ch
DTSTAMP:20260320T124119Z
DESCRIPTION:Kontakt: Petra Hofmann\n\nWeitere Infos:
  https://www.ref-sh.ch/veranstaltung/196402
SUMMARY:4.Klass Unti
PRIORITY:5
X-MICROSOFT-CDO-IMPORTANCE:1
CLASS:PUBLIC
END:VEVENT
END:VCALENDAR
