BEGIN:VCALENDAR
PRODID:-//kirchenweb.ch gmbh//veranstaltungsausgabe v2.0//DE
VERSION:2.0
METHOD:PUBLISH
BEGIN:VEVENT
DTSTART:20260620T180000Z
DTEND:20260620T200000Z
LOCATION:Zwinglikirche\, Hochstrasse 202\, 8200 Schaffhausen
TRANSP:OPAQUE
SEQUENCE:0
UID:196385-veranstaltung@ref-sh.ch
DTSTAMP:20260320T163010Z
DESCRIPTION:Zum Reformationsjubiläum wird der Kinofilm Zwingli gezeigt.\n
 \nZwingli – Der Reformator von Stefan Haupt aus dem Jahr 2019 zeigt das
  Wirken des Reformators Huldrych Zwingli in der Stadt Zürich von 1519 bis
  zu seinem gewaltsamen Tod im Zweiten Kappelerkrieg im Jahr 1531.\n
 \nKontakt: Roland Diethelm\n\nWeitere Infos:
  https://www.ref-sh.ch/veranstaltung/196385
SUMMARY:Kino zum Reformationsjubiläum
PRIORITY:5
X-MICROSOFT-CDO-IMPORTANCE:1
CLASS:PUBLIC
END:VEVENT
END:VCALENDAR
