BEGIN:VCALENDAR
PRODID:-//kirchenweb.ch gmbh//veranstaltungsausgabe v2.0//DE
VERSION:2.0
METHOD:PUBLISH
BEGIN:VEVENT
DTSTART:20260625T160000Z
DTEND:20260625T170000Z
LOCATION:Steigsaal\, Nordstrasse 33\, 8200 Schaffhausen
TRANSP:OPAQUE
SEQUENCE:0
UID:196381-veranstaltung@ref-sh.ch
DTSTAMP:20260320T080409Z
DESCRIPTION:Kontakt: Pfr. Beat Wanner\n\nWeitere Infos:
  https://www.ref-sh.ch/veranstaltung/196381
SUMMARY:Frauen- und Männerabend
PRIORITY:5
X-MICROSOFT-CDO-IMPORTANCE:1
CLASS:PUBLIC
END:VEVENT
END:VCALENDAR
