BEGIN:VCALENDAR
PRODID:-//kirchenweb.ch gmbh//veranstaltungsausgabe v2.0//DE
VERSION:2.0
METHOD:PUBLISH
BEGIN:VEVENT
DTSTART:20260531T074500Z
DTEND:20260531T084500Z
LOCATION:Kirche Burg\, Burg 3\, 8260 Stein am Rhein
TRANSP:OPAQUE
SEQUENCE:0
UID:196369-veranstaltung@ref-sh.ch
DTSTAMP:20260413T075718Z
DESCRIPTION:Mitwirkung der River Voices\n\nim Anschluss Chilekafi\n
 \nKontakt: Pfarrehepaar Junger\n\nWeitere Infos:
  https://www.ref-sh.ch/veranstaltung/196369
SUMMARY:Gottesdienst
PRIORITY:5
X-MICROSOFT-CDO-IMPORTANCE:1
CLASS:PUBLIC
END:VEVENT
END:VCALENDAR
