BEGIN:VCALENDAR
PRODID:-//kirchenweb.ch gmbh//veranstaltungsausgabe v2.0//DE
VERSION:2.0
METHOD:PUBLISH
BEGIN:VEVENT
DTSTART:20260524T074500Z
DTEND:20260524T084500Z
LOCATION:Kirche Burg\, Uf Burg 3\, 8260 Stein am Rhein
TRANSP:OPAQUE
SEQUENCE:0
UID:196368-veranstaltung@ref-sh.ch
DTSTAMP:20260319T163011Z
DESCRIPTION:mit Abendmahl\n\nKontakt: Pfarrehepaar Junger\n\nWeitere
  Infos: https://www.ref-sh.ch/veranstaltung/196368
SUMMARY:Pfingst-Gottesdienst mit Abendmahl
PRIORITY:5
X-MICROSOFT-CDO-IMPORTANCE:1
CLASS:PUBLIC
END:VEVENT
END:VCALENDAR
